BEGIN:VCALENDAR
VERSION:2.0
METHOD:PUBLISH
X-WR-CALNAME:St Ignatius Catholic School |  May 01 2016- June 01 2016 | Filter\: 
PRODID:-//strange bird labs//Drupal iCal API//EN
BEGIN:VEVENT
DTSTAMP;VALUE=DATE-TIME:20180121T015120Z
DTSTART;VALUE=DATE-TIME:20160502T103500Z
DTEND;VALUE=DATE-TIME:20020203
UID:http://stignatius.school.nz/term-2-day-one
URL;VALUE=URI:http://stignatius.school.nz/term-2-day-one
SUMMARY:Term 2 Day One 
END:VEVENT
BEGIN:VEVENT
DTSTAMP;VALUE=DATE-TIME:20180121T015120Z
DTSTART;VALUE=DATE-TIME:20160525T095200Z
DTEND;VALUE=DATE-TIME:20020203
UID:http://stignatius.school.nz/bot-meeting-730pm-3
URL;VALUE=URI:http://stignatius.school.nz/bot-meeting-730pm-3
SUMMARY:BOT Meeting 7.30pm
END:VEVENT
BEGIN:VEVENT
DTSTAMP;VALUE=DATE-TIME:20180121T015120Z
DTSTART;VALUE=DATE-TIME:20160531T100300Z
DTEND;VALUE=DATE-TIME:20020203
UID:http://stignatius.school.nz/bay-suburbs-football-yr-5-6-teams
URL;VALUE=URI:http://stignatius.school.nz/bay-suburbs-football-yr-5-6-teams
SUMMARY:Bay Suburbs Football Yr 5 & 6 teams
END:VEVENT
END:VCALENDAR
