BEGIN:VCALENDAR
VERSION:2.0
METHOD:PUBLISH
X-WR-CALNAME:St Ignatius Catholic School |  June 01 2016- July 01 2016 | Filter\: 
PRODID:-//strange bird labs//Drupal iCal API//EN
BEGIN:VEVENT
DTSTAMP;VALUE=DATE-TIME:20180121T014846Z
DTSTART;VALUE=DATE-TIME:20160601T100400Z
DTEND;VALUE=DATE-TIME:20020203
UID:http://stignatius.school.nz/bay-suburbs-football-save-day
URL;VALUE=URI:http://stignatius.school.nz/bay-suburbs-football-save-day
SUMMARY:Bay Suburbs Football SAVE DAY
END:VEVENT
BEGIN:VEVENT
DTSTAMP;VALUE=DATE-TIME:20180121T014846Z
DTSTART;VALUE=DATE-TIME:20160605T112000Z
DTEND;VALUE=DATE-TIME:20020203
UID:http://stignatius.school.nz/queens-birthday-holiday
URL;VALUE=URI:http://stignatius.school.nz/queens-birthday-holiday
SUMMARY:Queen's Birthday Holiday 
END:VEVENT
BEGIN:VEVENT
DTSTAMP;VALUE=DATE-TIME:20180121T014846Z
DTSTART;VALUE=DATE-TIME:20160620T100500Z
DTEND;VALUE=DATE-TIME:20020203
UID:http://stignatius.school.nz/bay-suburbs-rugby-rippa
URL;VALUE=URI:http://stignatius.school.nz/bay-suburbs-rugby-rippa
SUMMARY:Bay Suburbs Rugby & Rippa
END:VEVENT
BEGIN:VEVENT
DTSTAMP;VALUE=DATE-TIME:20180121T014846Z
DTSTART;VALUE=DATE-TIME:20160622T100600Z
DTEND;VALUE=DATE-TIME:20020203
UID:http://stignatius.school.nz/bay-suburbs-rugby-rippa-save-day
URL;VALUE=URI:http://stignatius.school.nz/bay-suburbs-rugby-rippa-save-day
SUMMARY:Bay Suburbs Rugby & Rippa SAVE DAY
END:VEVENT
END:VCALENDAR
