BEGIN:VCALENDAR
VERSION:2.0
METHOD:PUBLISH
X-WR-CALNAME:St Ignatius Catholic School |  July 01 2016- August 01 2016
PRODID:-//strange bird labs//Drupal iCal API//EN
BEGIN:VEVENT
DTSTAMP;VALUE=DATE-TIME:20180121T014919Z
DTSTART;VALUE=DATE-TIME:20160708T103500Z
DTEND;VALUE=DATE-TIME:20020203
UID:http://stignatius.school.nz/last-day-term-2
URL;VALUE=URI:http://stignatius.school.nz/last-day-term-2
SUMMARY:Last Day Term 2
END:VEVENT
BEGIN:VEVENT
DTSTAMP;VALUE=DATE-TIME:20180121T014919Z
DTSTART;VALUE=DATE-TIME:20160725T103600Z
DTEND;VALUE=DATE-TIME:20020203
UID:http://stignatius.school.nz/day-one-term-3
URL;VALUE=URI:http://stignatius.school.nz/day-one-term-3
SUMMARY:Day One Term 3
END:VEVENT
END:VCALENDAR
