BEGIN:VCALENDAR
VERSION:2.0
METHOD:PUBLISH
X-WR-CALNAME:St Ignatius Catholic School |  September 01 2016- October 01 2016 | Filter\: 
PRODID:-//strange bird labs//Drupal iCal API//EN
BEGIN:VEVENT
DTSTAMP;VALUE=DATE-TIME:20180121T014313Z
DTSTART;VALUE=DATE-TIME:20160923T103700Z
DTEND;VALUE=DATE-TIME:20020203
UID:http://stignatius.school.nz/last-day-term-3-1
URL;VALUE=URI:http://stignatius.school.nz/last-day-term-3-1
SUMMARY:Last Day Term 3
END:VEVENT
END:VCALENDAR
