BEGIN:VCALENDAR
VERSION:2.0
METHOD:PUBLISH
X-WR-CALNAME:St Ignatius Catholic School |  October 01 2016- November 01 2016
PRODID:-//strange bird labs//Drupal iCal API//EN
BEGIN:VEVENT
DTSTAMP;VALUE=DATE-TIME:20180121T014347Z
DTSTART;VALUE=DATE-TIME:20161010T103700Z
DTEND;VALUE=DATE-TIME:20020203
UID:http://stignatius.school.nz/day-one-term-4
URL;VALUE=URI:http://stignatius.school.nz/day-one-term-4
SUMMARY:Day One Term 4
END:VEVENT
END:VCALENDAR
