BEGIN:VCALENDAR
VERSION:2.0
METHOD:PUBLISH
X-WR-CALNAME:St Ignatius Catholic School |  December 01 2016- January 01 2017 | Filter\: 
PRODID:-//strange bird labs//Drupal iCal API//EN
BEGIN:VEVENT
DTSTAMP;VALUE=DATE-TIME:20180121T014027Z
DTSTART;VALUE=DATE-TIME:20161214T223800Z
DTEND;VALUE=DATE-TIME:20020203
UID:http://stignatius.school.nz/last-day-term-4-tbc
URL;VALUE=URI:http://stignatius.school.nz/last-day-term-4-tbc
SUMMARY:Last Day Term 4  TBC
END:VEVENT
END:VCALENDAR
